BEGIN:VCALENDAR
VERSION:2.0
PRODID:-//Niederrheinisches Literaturhaus der Stadt Krefeld - ECPv6.15.18//NONSGML v1.0//EN
CALSCALE:GREGORIAN
METHOD:PUBLISH
X-ORIGINAL-URL:https://nlh-krefeld.de
X-WR-CALDESC:Veranstaltungen für Niederrheinisches Literaturhaus der Stadt Krefeld
REFRESH-INTERVAL;VALUE=DURATION:PT1H
X-Robots-Tag:noindex
X-PUBLISHED-TTL:PT1H
BEGIN:VTIMEZONE
TZID:Europe/Berlin
BEGIN:DAYLIGHT
TZOFFSETFROM:+0100
TZOFFSETTO:+0200
TZNAME:CEST
DTSTART:20220327T010000
END:DAYLIGHT
BEGIN:STANDARD
TZOFFSETFROM:+0200
TZOFFSETTO:+0100
TZNAME:CET
DTSTART:20221030T010000
END:STANDARD
BEGIN:DAYLIGHT
TZOFFSETFROM:+0100
TZOFFSETTO:+0200
TZNAME:CEST
DTSTART:20230326T010000
END:DAYLIGHT
BEGIN:STANDARD
TZOFFSETFROM:+0200
TZOFFSETTO:+0100
TZNAME:CET
DTSTART:20231029T010000
END:STANDARD
BEGIN:DAYLIGHT
TZOFFSETFROM:+0100
TZOFFSETTO:+0200
TZNAME:CEST
DTSTART:20240331T010000
END:DAYLIGHT
BEGIN:STANDARD
TZOFFSETFROM:+0200
TZOFFSETTO:+0100
TZNAME:CET
DTSTART:20241027T010000
END:STANDARD
BEGIN:DAYLIGHT
TZOFFSETFROM:+0100
TZOFFSETTO:+0200
TZNAME:CEST
DTSTART:20250330T010000
END:DAYLIGHT
BEGIN:STANDARD
TZOFFSETFROM:+0200
TZOFFSETTO:+0100
TZNAME:CET
DTSTART:20251026T010000
END:STANDARD
BEGIN:DAYLIGHT
TZOFFSETFROM:+0100
TZOFFSETTO:+0200
TZNAME:CEST
DTSTART:20260329T010000
END:DAYLIGHT
BEGIN:STANDARD
TZOFFSETFROM:+0200
TZOFFSETTO:+0100
TZNAME:CET
DTSTART:20261025T010000
END:STANDARD
END:VTIMEZONE
BEGIN:VEVENT
DTSTART;TZID=Europe/Berlin:20250919T190000
DTEND;TZID=Europe/Berlin:20250919T210000
DTSTAMP:20260422T104622
CREATED:20250704T081755Z
LAST-MODIFIED:20250815T103737Z
UID:10000221-1758308400-1758315600@nlh-krefeld.de
SUMMARY:AUSGEBUCHT: Sabin Tambrea: Vaterländer
DESCRIPTION:Lesung und Gespräch  \n\n\n\nIn seinem Roman „Vaterländer“ erzählt Tambrea die bewegende Lebensgeschichte seiner rumänisch-ungarischen Familie. Durch die Augen dreier Generationen – des jungen Sabin\, seines Vaters Béla und seines Großvater Horea – erleben wir eine emotionale Zeit voller Entbehrungen\, Hoffnungen und Entscheidungen\, die ihr Schicksal für immer verändern. \n\n\n\n\n\n\n\n1985 trifft Béla Tambrea die schwere Entscheidung\, sein Heimatland Rumänien nach einer Konzertreise zu verlassen\, um seiner Familie ein besseres Leben zu ermöglichen. Dieser mutige Schritt führt dazu\, dass seine Familie zwei Jahre später ebenfalls nach Deutschland zieht\, kurz bevor das Ceauceșcu-Regime blutig zusammenbricht. Doch der Neuanfang in einem fremden Land bringt nicht nur Freiheit\, sondern auch große Entbehrungen und bodenlose Einsamkeit mit sich. Tambrea entfaltet vor unseren Augen die Auswirkungen eines gnadenlosen politischen Systems auf das Leben gewöhnlicher Menschen. Er beschreibt die Ohnmacht gegenüber Unrecht\, die Tragweite von Entscheidungen und die Sehnsucht nach Selbstbestimmung. Gleichzeitig erzählt er von einer Liebesgeschichte\, die zeigt\, wie stark eine Familie zusammenhalten kann\, selbst in dunkelsten Zeiten. \n\n\n\n\n\n\n\nMit großer sprachlicher Kraft nimmt Sabin Tambrea uns mit auf eine Reise durch die turbulenten Ereignisse des 20. Jahrhunderts. Vaterländer ist nicht nur die Geschichte seiner Familie\, sondern auch ein eindrucksvolles Zeugnis der menschlichen Stärke und des Überlebenswillens in einer Welt im Wandel. \n\n\n\n\n\nVeranstaltet von\n\n\n\nNS-Dokumentationsstelle in der Villa Merländer und Niederrheinisches Literaturhaus \n\n\n\n\n\nEintritt\n\n\n\nfrei\, Spenden an die NS-Dokumentationsstelle willkommen \n\n\n\n\n\n\n\nReservierung\n\n\n\nper Mail an ns-doku@krefeld.de \n\n\n\n\n\nBarrieren\n\n\n\nDas Theater Krefeld ist ebenerdig zugänglich. Es gibt einen Fahrstuhl zum Glasfoyer. Dort stehen Stühl mit Lehnen. Es ist ausreichend Platz für Rollstühle vorhanden. \n\n\n\n\nFoto: © Markus Höhn
URL:https://nlh-krefeld.de/veranstaltung/sabin-tambrea-vaterlaender/
LOCATION:Theater KR MG\, Theaterplatz 3\, Krefeld\, 47798
CATEGORIES:2025,Einzelveranstaltungen,Lesung
ATTACH;FMTTYPE=image/jpeg:https://nlh-krefeld.de/wp-content/uploads/2025/07/Gutkind_Tambrea_Autorenfoto_c_Marcus_Hoehn_Anschnitt.jpg
END:VEVENT
BEGIN:VEVENT
DTSTART;TZID=Europe/Berlin:20240608T143000
DTEND;TZID=Europe/Berlin:20240608T160000
DTSTAMP:20260422T104622
CREATED:20240506T141244Z
LAST-MODIFIED:20240508T104113Z
UID:10000159-1717857000-1717862400@nlh-krefeld.de
SUMMARY:Gemeinsam schreiben
DESCRIPTION:Schreibworkshop für Experimentierfreudige \n\n\n\nZu „Kultur findet Stadt“ bieten wir einen Schreibworkshop für Experimentierfreudige jeden Alters an: Statt für sich allein Texte zu formulieren\, arbeiten die Teilnehmenden zusammen. Am großen Tisch lassen sie sich von Würfelglück\, Erzählmustern und anderen Impulsen inspirieren\, rücken Stühle und spinnen die Ideen der anderen weiter. Am Ende teilen sie ihre Erfahrungen und lesen die entstandenen Geschichten vor. Raus aus dem stillen Kämmerlein\, rein in die Gemeinschaft! \n\n\n\n\n\nVeranstaltet von\n\n\n\nNiederrheinisches Literaturhaus \n\n\n\n\n\nEintritt\n\n\n\nfrei \n\n\n\n\n\n\n\nAnmeldung\n\n\n\nper Mail an literaturhaus@krefeld.de bis 6. Juni \n\n\n\n\nFoto: © Niederrheinisches Literaturhaus
URL:https://nlh-krefeld.de/veranstaltung/gemeinsam-schreiben/
LOCATION:Theater KR MG\, Theaterplatz 3\, Krefeld\, 47798
CATEGORIES:2024,Einzelveranstaltungen,Startseite
ATTACH;FMTTYPE=image/jpeg:https://nlh-krefeld.de/wp-content/uploads/2024/05/IMG_0797-scaled.jpg
END:VEVENT
BEGIN:VEVENT
DTSTART;TZID=Europe/Berlin:20230812T150000
DTEND;TZID=Europe/Berlin:20230813T150000
DTSTAMP:20260422T104622
CREATED:20230613T112318Z
LAST-MODIFIED:20230807T110440Z
UID:10000125-1691852400-1691938800@nlh-krefeld.de
SUMMARY:Krefelder Leserausch - 24 Stunden im Theater
DESCRIPTION:Geben Sie sich das volle Programm! Achtzigundeine Geschichte warten auf Sie. Mal spannend\, mal berührend\, mal verzaubernd\, mal komisch – jedenfalls immer anregend! Beim „Krefelder Leserausch“ lesen für Sie rund 50 bekannte und kennenswerte lesefreudige Krefelder\, Mitglieder des Schauspielensembles und Autorinnen und Autoren aus Lieblingsbüchern der Krefelder vor. \n\n\n\n\n\n\n\nAußerdem gibt‘s einen nächtlichen Poetry Slam-Wettbewerb zwischen toten und lebenden Dichtern\, eine Kinderstunde\, eine Jugendliteraturstunde\, zwei schräge Blaue Stunden\, Livemusik von sechs Bands und DJ-Sets und natürlich Getränke und Snacks. 24 Stunden lang! \n\n\n\n\n\n\n\nMit Geschichten aus aller Welt\, von gestern bis heute\, über: Große Gefühle – Stadt\, Fluss\, Land – Frieden & Krieg – Familienbande – Einwandern & Auswandern – Arbeit & Maschine – Sex & Crime. \n\n\n\n\n\n\n\nDas alles können Sie bequem im großen Saal verfolgen. Oder Sie machen es sich in den Foyers gemütlich und lauschen der Audio- und Videoübertragung. Und wer mag\, rollt im Seitenfoyer einfach seinen Schlafsack aus und holt sich neue Energie. \n\n\n\n\n\n\n\nNachts im Museum kennt man. Aber nachts im Theater\, ach was: Tag & Nacht & Tag im Theater – das ist ein einmaliges Erlebnis anlässlich des 650jährigen Stadtjubiläums\, das Sie sich nicht entgehen lassen sollten! \n\n\n\n\n\n\n\nVorlesende und Moderation: Heike Knispel\, OB Frank Meyer\, Anne Poleska-Urban\, Bernhard Hennen\, Ulrike Renk\, Helmut Wenderoth\, Gabriele König\, Michael Grosse\, Johannes Floehr\, Helge Drafz\, Ingrid Schmitz (Jerry Cotton)\, Herbert Genzmer\, das Schauspielensemble des Theaters KR/MG u. v. a. m. \n\n\n\n\n\n\n\nMusik: Waldo Karpenkiel u. d. Ungeprobt-Trio\, Furiosef\, U.T.A.\, Markus Maria Jansen\, Clemens Gutjahr Trio\, Toi et Moi und DJs Ose & Shamey Oliver \n\n\n\n\n\n\n\nUnd hier das Gesamtprogramm als Flyer! Wir empfehlen: Sichern Sie sich schon jetzt ihr Ticket im Vorverkauf des Stadttheaters! \n\n\n\nKrefelder_Leserausch_Programm-Flyer-finalHerunterladen\n\n\n\n\n\nVeranstaltet von\n\n\n\nNiederrheinisches Literaturhaus\, Theater Krefeld und Mönchengladbach\, Mediothek Krefeld \n\n\n\n\n\nEintritt\n\n\n\nTicket nur 650 Cent \n\n\n\nAb sofort im Vorverkauf an der Theaterkasse oder online hier \n\n\n\n\n\n\n\n\n\n\n\n \n\n\n\n\n\n\n\n\n\n\n\n\nIllustration: © Sonja Ochotta
URL:https://nlh-krefeld.de/veranstaltung/krefelder-leserausch-24-stunden-im-theater/
LOCATION:Theater KR MG\, Theaterplatz 3\, Krefeld\, 47798
CATEGORIES:2023,Einzelveranstaltungen,Lesung,Startseite,Veranstaltung
ATTACH;FMTTYPE=image/jpeg:https://nlh-krefeld.de/wp-content/uploads/2023/06/Illustration-rot.jpg
END:VEVENT
END:VCALENDAR