BEGIN:VCALENDAR
VERSION:2.0
PRODID:-//Niederrheinisches Literaturhaus der Stadt Krefeld - ECPv6.15.18//NONSGML v1.0//EN
CALSCALE:GREGORIAN
METHOD:PUBLISH
X-WR-CALNAME:Niederrheinisches Literaturhaus der Stadt Krefeld
X-ORIGINAL-URL:https://nlh-krefeld.de
X-WR-CALDESC:Veranstaltungen für Niederrheinisches Literaturhaus der Stadt Krefeld
REFRESH-INTERVAL;VALUE=DURATION:PT1H
X-Robots-Tag:noindex
X-PUBLISHED-TTL:PT1H
BEGIN:VTIMEZONE
TZID:Europe/Berlin
BEGIN:DAYLIGHT
TZOFFSETFROM:+0100
TZOFFSETTO:+0200
TZNAME:CEST
DTSTART:20250330T010000
END:DAYLIGHT
BEGIN:STANDARD
TZOFFSETFROM:+0200
TZOFFSETTO:+0100
TZNAME:CET
DTSTART:20251026T010000
END:STANDARD
BEGIN:DAYLIGHT
TZOFFSETFROM:+0100
TZOFFSETTO:+0200
TZNAME:CEST
DTSTART:20260329T010000
END:DAYLIGHT
BEGIN:STANDARD
TZOFFSETFROM:+0200
TZOFFSETTO:+0100
TZNAME:CET
DTSTART:20261025T010000
END:STANDARD
BEGIN:DAYLIGHT
TZOFFSETFROM:+0100
TZOFFSETTO:+0200
TZNAME:CEST
DTSTART:20270328T010000
END:DAYLIGHT
BEGIN:STANDARD
TZOFFSETFROM:+0200
TZOFFSETTO:+0100
TZNAME:CET
DTSTART:20271031T010000
END:STANDARD
END:VTIMEZONE
BEGIN:VEVENT
DTSTART;TZID=Europe/Berlin:20260619T180000
DTEND;TZID=Europe/Berlin:20260619T210000
DTSTAMP:20260424T130331
CREATED:20260417T095334Z
LAST-MODIFIED:20260417T095507Z
UID:10000260-1781892000-1781902800@nlh-krefeld.de
SUMMARY:Heimatreisen. Workshop für Schreibfreudige im Stadtbezirk Nord
DESCRIPTION:mit Autorin Angelika Hesse für alle von 15 bis 99 Jahren \n\n\n\nDer kostenlose Schreibworkshop unseres neuen kleinen Festivals „Literaturbezirk Nord“ widmet sich dem Thema „Heimatreisen“. Einwohner:innen von Traar\, Verberg\, Kliedbruch und Bockum sind herzlich eingeladen\, ob in Gedicht\, Geschichte oder Erinnerung von ihrem Ort zu erzählen.  \n\n\n\n\n\n\n\n \n\n\n\n\n\n\n\nIn entspannter Schreibatmosphäre werden Teilnehmende zwischen 15 und 99 Jahren von der selbst im Kliedbruch lebenden\, erfolgreichen Autorin und erfahrenen Workshopleiterin Angelika Hesse begleitet und beraten. Ausgehend von einem Foto\, einem Bild\, einem alten Erbstück oder einem Überbleibsel aus der Kindheit erkunden die Teilnehmenden\, was der Begriff „Heimat“ für sie bedeutet. \n\n\n\nVorkenntnisse sind nicht erforderlich. Schreibmaterialien (analog oder digital) sollten mitgebracht werden. \n\n\n\n\n\n\n\nDie Teilnahme ist kostenfrei. Eine Reservierung ist erforderlich. \n\n\n\n\n\n\n\nMit herzlichem Dank für die Unterstützung an den Bürgerverein Kliedbruch und den KTSV Preußen \n\n\n\n\n\nVeranstaltet von\n\n\n\nNiederrheinisches Literaturhaus \n\n\n\n\n\nEintritt\n\n\n\nfrei \n\n\n\n\n\nReservierung\n\n\n\nÜber das Anmeldeformular (siehe oben) \n\n\n\n\n\n\n\nGefördert von \n\n\n\n\n\n \n\n\n\n\nFoto/Fotos: ©
URL:https://nlh-krefeld.de/veranstaltung/heimatreisen-workshop-fuer-schreibfreudige-im-stadtbezirk-nord/
LOCATION:Hubert-Houben-Kampfbahn\, Altes Pförtnerhaus\, Appellweg 3\, Krefeld\, 47803\, Germany
CATEGORIES:2026,Einzelworkshops,Literaturbezirk,Veranstaltung
ATTACH;FMTTYPE=image/png:https://nlh-krefeld.de/wp-content/uploads/2026/04/angelika-hesse.png
END:VEVENT
END:VCALENDAR