BEGIN:VCALENDAR
VERSION:2.0
PRODID:-//Niederrheinisches Literaturhaus der Stadt Krefeld - ECPv6.15.18//NONSGML v1.0//EN
CALSCALE:GREGORIAN
METHOD:PUBLISH
X-ORIGINAL-URL:https://nlh-krefeld.de
X-WR-CALDESC:Veranstaltungen für Niederrheinisches Literaturhaus der Stadt Krefeld
REFRESH-INTERVAL;VALUE=DURATION:PT1H
X-Robots-Tag:noindex
X-PUBLISHED-TTL:PT1H
BEGIN:VTIMEZONE
TZID:Europe/Berlin
BEGIN:DAYLIGHT
TZOFFSETFROM:+0100
TZOFFSETTO:+0200
TZNAME:CEST
DTSTART:20250330T010000
END:DAYLIGHT
BEGIN:STANDARD
TZOFFSETFROM:+0200
TZOFFSETTO:+0100
TZNAME:CET
DTSTART:20251026T010000
END:STANDARD
BEGIN:DAYLIGHT
TZOFFSETFROM:+0100
TZOFFSETTO:+0200
TZNAME:CEST
DTSTART:20260329T010000
END:DAYLIGHT
BEGIN:STANDARD
TZOFFSETFROM:+0200
TZOFFSETTO:+0100
TZNAME:CET
DTSTART:20261025T010000
END:STANDARD
BEGIN:DAYLIGHT
TZOFFSETFROM:+0100
TZOFFSETTO:+0200
TZNAME:CEST
DTSTART:20270328T010000
END:DAYLIGHT
BEGIN:STANDARD
TZOFFSETFROM:+0200
TZOFFSETTO:+0100
TZNAME:CET
DTSTART:20271031T010000
END:STANDARD
END:VTIMEZONE
BEGIN:VEVENT
DTSTART;TZID=Europe/Berlin:20260621T150000
DTEND;TZID=Europe/Berlin:20260621T170000
DTSTAMP:20260424T135914
CREATED:20260423T113233Z
LAST-MODIFIED:20260423T113236Z
UID:10000259-1782054000-1782061200@nlh-krefeld.de
SUMMARY:Mehrfamilienhaus mit Sollbruchstellen
DESCRIPTION:Neue Gedichte aus Norddeutschland mit Anne Martin und Donka Dimova \n\n\n\nZum Abschluss unseres neuen kleinen Festivals „Literaturbezirk Nord“ haben wir zwei Lyrikerinnen eingeladen\, die es von weit und weiter her nach Norddeutschland gezogen hat. Wie ist es\, dort oben Gedichte zu schreiben? Sollte es da hauptsächlich um Wind und Wetter\, Wasser und Deiche gehen? \n\n\n\n\n\n\n\n \n\n\n\n\n\n\n\nWeit gefehlt\, auch wenn zumindest in manchen Gedichten der in Erfurt geborenen\, aber längst in Greifswald lebenden Literatin\, Künstlerin und Singer-Songwriterin Anne Martin das lyrische Ich zuweilen durch die Dünen wandert. In ihrem Band „sollbruchstellen“ (parasitenpresse) beschäftigt sie sich mit der Welt als zerbrechlichem und gleichzeitig überkomplexem Ort\, in dem wir nach Sinn suchen\, aber häufig nur Konsum finden. Kein Wunder\, dass ihre Texte und Songs da zwischen lächelnder Ironie\, nüchternem Achselzucken und heftiger Wut changieren. \n\n\n\n\n\n\n\nAuch Donka Dimova ist nach Norddeutschland umgezogen. Geboren in Burgas\, Bulgarien\, lebt sie seit dem Studium in Bremen. Sie ist Lyrikerin und Sprachkünstlerin auf Deutsch und Bulgarisch. Die Prosagedichte in ihrem ersten auf Deutsch verfassten Lyrikband (KLAK Verlag) erzählen von den Bewohnern im „Mehrfamilienhaus ohne Aussicht“ (so der Buchtitel)\, über ihre Erwartungen und das Scheitern\, familiäre Dramen und die Suche nach Zukunft\, über den Stolz und fehlende Worte. Befragt und zum Sprechen gebracht werden die Nachbarn von Nadezda\, deren Name übersetzt Hoffnung bedeutet. \n\n\n\n\n\n\n\nDie beiden Lyrikerinnen wiederum werden befragt von Moderatorin Marlene Jäger\, die mit ihnen über ihre Texte und das Schreiben an sich spricht. \n\n\n\n\n\nVeranstaltet von\n\n\n\nNiederrheinisches Literaturhaus \n\n\n\n\n\nEintritt\n\n\n\n10 Euro\, 5 Euro ermäßigt für Schüler:innen\, Studierende und Empfänger:innen von Sozialleistungen \n\n\n\n\n\nReservierung\n\n\n\nÜber das Anmeldeformular (siehe oben) \n\n\n\n\n\n\n\nGefördert von \n\n\n\n\n\n \n\n\n\n\nFoto/Fotos: © Julian Elbers (Dimova)
URL:https://nlh-krefeld.de/veranstaltung/anne-martin-donka-dimova/
LOCATION:Zeughaus der Prinzengarde\, Glindholzstraße 196\, Krefeld\, 47800\, Germany
CATEGORIES:2026,Lesung,Literaturbezirk,Veranstaltung
ATTACH;FMTTYPE=image/png:https://nlh-krefeld.de/wp-content/uploads/2026/04/dimova-martin-kreis.png
END:VEVENT
END:VCALENDAR