BEGIN:VCALENDAR
VERSION:2.0
PRODID:-//Niederrheinisches Literaturhaus der Stadt Krefeld - ECPv6.15.18//NONSGML v1.0//EN
CALSCALE:GREGORIAN
METHOD:PUBLISH
X-WR-CALNAME:Niederrheinisches Literaturhaus der Stadt Krefeld
X-ORIGINAL-URL:https://nlh-krefeld.de
X-WR-CALDESC:Veranstaltungen für Niederrheinisches Literaturhaus der Stadt Krefeld
REFRESH-INTERVAL;VALUE=DURATION:PT1H
X-Robots-Tag:noindex
X-PUBLISHED-TTL:PT1H
BEGIN:VTIMEZONE
TZID:Europe/Berlin
BEGIN:DAYLIGHT
TZOFFSETFROM:+0100
TZOFFSETTO:+0200
TZNAME:CEST
DTSTART:20250330T010000
END:DAYLIGHT
BEGIN:STANDARD
TZOFFSETFROM:+0200
TZOFFSETTO:+0100
TZNAME:CET
DTSTART:20251026T010000
END:STANDARD
BEGIN:DAYLIGHT
TZOFFSETFROM:+0100
TZOFFSETTO:+0200
TZNAME:CEST
DTSTART:20260329T010000
END:DAYLIGHT
BEGIN:STANDARD
TZOFFSETFROM:+0200
TZOFFSETTO:+0100
TZNAME:CET
DTSTART:20261025T010000
END:STANDARD
BEGIN:DAYLIGHT
TZOFFSETFROM:+0100
TZOFFSETTO:+0200
TZNAME:CEST
DTSTART:20270328T010000
END:DAYLIGHT
BEGIN:STANDARD
TZOFFSETFROM:+0200
TZOFFSETTO:+0100
TZNAME:CET
DTSTART:20271031T010000
END:STANDARD
END:VTIMEZONE
BEGIN:VEVENT
DTSTART;TZID=Europe/Berlin:20260617T200000
DTEND;TZID=Europe/Berlin:20260617T214500
DTSTAMP:20260421T130219
CREATED:20260420T081725Z
LAST-MODIFIED:20260420T081729Z
UID:10000258-1781726400-1781732700@nlh-krefeld.de
SUMMARY:Romane aus dem hohen Norden
DESCRIPTION:Ein Abend der skandinavischen Literatur mit Ursel Allenstein und Stefan Pluschkat \n\n\n\nDie Auftaktveranstaltung zu unserem neuen kleinen Festival „Literaturbezirk Nord“: Zwei herausragende Expert:innen stellen in Lesung & Gespräch fünf aktuelle skandinavische Romane vor. \n\n\n\n\n\n\n\nWie lebt es sich im hohen Norden? Fernwehfreundlich mit Blick auf den Flugplatz am Egelsberg gibt Ihnen an diesem Abend beste skandinavische Literatur Antworten. Zu Lesung und Gespräch mit Moderatorin Maren Jungclaus haben wir zwei absolute Expert:innen eingeladen\, nämlich die Übersetzerinnen dieser und vieler weiterer bedeutender Bücher aus Skandinavien: Ursel Allenstein (Hamburg) und Stefan Pluschkat (Essen). \n\n\n\n\n\n\n\nIm abwechslungsreichen Programm sind Ausschnitte aus diesen Romanen zu hören: „Kindheit“ von Tove Ditlevsen\, „Das Teufelsbuch“ von Asta Olivia Nordenhof\, „Acht Jahreszeiten“ von Kathrine Nedrejord\, „Melken“ von Sanna Samuelsson und „Unter dem Pflaster liegt der Strand“ von Johan Harstad. \n\n\n\n\n\n\n\nUnd für alle\, die sich vorher kulinarisch stärken möchten\, baut Don Marcello ganz einfach eine Brücke von Nord- nach Südeuropa. (À la carte-Bestellungen 18:00 bis 19:00 Uhr\, danach bis 19:45 Uhr bestellbar: Antipasti-Teller Don Marcello) \n\n\n\n\n\n\n\nUnterhalb der Infos zu den Romanen geht’s zur Platzreservierung! \n\n\n\n\n\n\n\nUnd dies sind die Bücher des Abends\n\n\n\n\n\n\n\nÜbersetzt von Ursel Allenstein: \n\n\n\n\n\n\n\nTove Ditlevsen: Kindheit (Aufbau Verlag) \n\n\n\nDer große Bestseller aus Dänemark: Kopenhagen\, 1920er Jahre: Tove wächst in Armut auf\, die Mutter unnahbar\, der Vater arbeitslos. Doch sie träumt unerschütterlich davon\, Schriftstellerin zu werden. Ditlevsens autobiographisches Meisterwerk ist verdichtet\, präzise und metaphorisch – und längst ein Klassiker. „Von atemberaubender Intensität und Schönheit.“ (Elke Heidenreich) \n\n\n\n\n\n\n\nAsta Olivia Nordenhof: Das Teufelsbuch (Ullstein Verlag)Der tragische und rätselhafte Brand auf dem Nordseekreuzer „Scandinavian Star“ im April 1990\, bei dem 159 Menschen starben\, bildet die Klammer einer epischen\, auf sieben Bände angelegten Romanserie des dänischen Literaturstars Asta O. Nordenhof. Jeder Band ist ein eigenständiger Roman. Im „Teufelsbuch“ geht es um Olivia\, die in einer Londoner Wohnung beginnt\, ihre Vergangenheit niederzuschreiben. Jahre zuvor verkaufte sie sich an den mysteriösen T.\, der ihr einen Koffer voller Geld für die vollständige Kontrolle über ihren Körper bot. In ihrem gemeinsamen Bett lag stets ein Küchenmesser – Symbol eines tödlichen Spiels\, aus dem sich Olivia in letzter Sekunde befreien konnte. \n\n\n\n\n\n\n\nÜbersetzt von Stefan Pluschkat: \n\n\n\n\n\n\n\nKathrine Nedrejord:  Acht Jahreszeiten. (Eichborn Verlag) \n\n\n\nMit dem renommierten norwegischen Brage-Preis ausgezeichnet: Als ihre Großmutter stirbt\, reist die Samin Marie nach Jahren im Ausland erstmals wieder in ihre alte Heimat Finnmark. Sie beginnt dort die weiblichen Biografien ihrer Familie von der Urgroßmutter an zu erforschen: eine Geschichte doppelter Diskriminierung – weil sie Frauen und weil sie Saminnen sind. Ein Roman über Identität\, Rollenzuweisung und die Unterdrückung eines der größten indigenen Völker Europas – messerscharf beobachtet\, persönlich und politisch zugleich\, mit Verve und Furor erzählt. \n\n\n\n\n\n\n\nSanna Samuelsson: Melken (Hanser Verlag) \n\n\n\nAls ihre Freundin Diana sich von ihr trennt\, setzt Ellen sich kurzerhand ins Auto und fährt zurück auf den Hof ihrer Kindheit. Es ist Sommer\, die neuen Besitzer scheinen verreist\, doch der Schlüssel ist im selben Versteck wie früher. Ellen verschafft sich Zutritt zum Haus – und bleibt. Die Kühe sind verkauft\, aber sie schmeckt die Milch wie damals\, der Mistgeruch hängt ihr in der Nase\, sie spürt die Wärme der Tierkörper. Dann taucht Max auf\, der Freund aus Kindertagen\, der nie weggezogen ist. Das Debüt einer der aufregendsten neuen Stimmen aus Schweden: Wer ist man\, wenn es die Welt\, aus der man kommt\, nicht mehr gibt? \n\n\n\n\n\n\n\nVon beiden gemeinsam übersetzt: \n\n\n\nJohan Harstad: Unter dem Pflaster liegt der Strand (claassen-Verlag) Atommüllexperte Ingmar wird in Warschau von einem Fremden über seine Jugend befragt—und ein radioaktiver Pflasterstein aus seiner Kindheit kehrt ins Leben zurück. Wer ihn berührt\, sieht sein gesamtes Leben in sieben Minuten—und wird in den Wahnsinn getrieben. 1.152 Seiten auf dem Gipfel norwegischer Literatur. „Eine epische Reise durch Zeit und Raum\, die am Ende genau die richtige Frage stellt: Was macht unsere Zeit auf diesem Planeten eigentlich aus?“ (Berit Glanz) \n\n\n\n\n\nVeranstaltet von\n\n\n\nNiederrheinisches Literaturhaus \n\n\n\n\n\nEintritt\n\n\n\n10 Euro\, 5 Euro ermäßigt für Schüler:innen\, Studierende und Empfänger:innen von Sozialleistungen \n\n\n\n\n\nReservierung\n\n\n\ndringend empfohlen! Über das Anmeldeformular (siehe oben) \n\n\n\n\n\n\n\nGefördert von \n\n\n\n\n\n \n\n\n\n\nFoto/Fotos: © Sabrina_Adelina_Nagel (Allenstein)
URL:https://nlh-krefeld.de/veranstaltung/romane-aus-dem-hohen-norden/
LOCATION:Ristorante Don Marcello\, Lilienthalweg 12\, Krefeld\, 47802\, Germany
CATEGORIES:2026,Lesung,Literaturbezirk,Veranstaltung
ATTACH;FMTTYPE=image/jpeg:https://nlh-krefeld.de/wp-content/uploads/2026/04/allenstein-pluschkat.jpg
END:VEVENT
END:VCALENDAR