BEGIN:VCALENDAR
VERSION:2.0
PRODID:-//Niederrheinisches Literaturhaus der Stadt Krefeld - ECPv6.15.18//NONSGML v1.0//EN
CALSCALE:GREGORIAN
METHOD:PUBLISH
X-ORIGINAL-URL:https://nlh-krefeld.de
X-WR-CALDESC:Veranstaltungen für Niederrheinisches Literaturhaus der Stadt Krefeld
REFRESH-INTERVAL;VALUE=DURATION:PT1H
X-Robots-Tag:noindex
X-PUBLISHED-TTL:PT1H
BEGIN:VTIMEZONE
TZID:Europe/Berlin
BEGIN:DAYLIGHT
TZOFFSETFROM:+0100
TZOFFSETTO:+0200
TZNAME:CEST
DTSTART:20240331T010000
END:DAYLIGHT
BEGIN:STANDARD
TZOFFSETFROM:+0200
TZOFFSETTO:+0100
TZNAME:CET
DTSTART:20241027T010000
END:STANDARD
BEGIN:DAYLIGHT
TZOFFSETFROM:+0100
TZOFFSETTO:+0200
TZNAME:CEST
DTSTART:20250330T010000
END:DAYLIGHT
BEGIN:STANDARD
TZOFFSETFROM:+0200
TZOFFSETTO:+0100
TZNAME:CET
DTSTART:20251026T010000
END:STANDARD
BEGIN:DAYLIGHT
TZOFFSETFROM:+0100
TZOFFSETTO:+0200
TZNAME:CEST
DTSTART:20260329T010000
END:DAYLIGHT
BEGIN:STANDARD
TZOFFSETFROM:+0200
TZOFFSETTO:+0100
TZNAME:CET
DTSTART:20261025T010000
END:STANDARD
END:VTIMEZONE
BEGIN:VEVENT
DTSTART;TZID=Europe/Berlin:20251025T193000
DTEND;TZID=Europe/Berlin:20251025T213000
DTSTAMP:20260424T185858
CREATED:20250704T091147Z
LAST-MODIFIED:20251022T132926Z
UID:10000222-1761420600-1761427800@nlh-krefeld.de
SUMMARY:AUSGEBUCHT! Krimi-Deutschlandreise
DESCRIPTION:WESTWERK-Lesung mit Tina Schlegel\, Eric Niemann\, Peter Godazgar und Alexandra Kui \n\n\n\nAuch 2025 beteiligen wir uns an den Krefelder Krimitagen mit einer spannenden Dreierlesung im Jazzkeller. Es geht auf kriminelle Deutschlandreise: in den Süden\, Norden\, Osten. Tina Schlegel stellt ihren neuen Bodensee-Krimi „Der See und der Tod“ (Emons-Verlag) vor\, Eric Niemann entführt uns mit seinem im Duo mit Anette Strohmeyer (Anne Nørdby) geschriebenen Krimi „Hamburg Chinatown“ (Gmeiner-Verlag) ins St. Pauli der 1920er Jahre\, und das Duo Peter Godazgar & Alexandra Kui verbindet in seinem Roman „Harz aber herzlich“ (Rowohlt Verlag) Achtsamkeit und Mord im Tourismus-Hotspot Düsterode/Harz. So unterschiedlich die Regionen\, so unterschiedlich die Krimis: psychologisch-politisch\, harter Noir und Cosy Crime. \n\n\n\n\n\n\n\nTina Schlegel: Der See und der Tod\n\n\n\n\n\n\n\nAuf dem Bodensee treibt die verlassene Segelyacht eines reichen Unternehmers\, an Bord werden Blutspuren gefunden. Die Ermittlungen führen Kommissarin Cora Merlin und ihren Kollegen Christian Fischl zur Firma des Opfers. Diese belieferte die Rüstungsindustrie. Wurden dem Mann seine Geschäfte zum Verhängnis? Doch dann taucht ein Video auf\, das zeigt\, wie mehrere Personen verschleppt werden. Wer sind die wirklichen Opfer in diesem Fall\, und was wollen die Entführer? Cora gerät in einen Sumpf voller Hass und Rachedurst – und wird dabei von ihrer eigenen Vergangenheit eingeholt. \n\n\n\n\n\n\n\nEric Niemann / Anette Strohmeyer: Hamburg Chinatown\n\n\n\n\n\n\n\nSt. Pauli in den 1920er-Jahren – ein Schmelztiegel der Kulturen im ersten Chinatown Deutschlands. Polizist Peder Hansen sucht dort den Mörder seines Bruders. Doch er ist nicht der Einzige mit einer Mission: Li Lim\, Auftragskiller der Shanghaier Triaden\, soll einen Oppositionellen töten. Als Hansen tiefer in die Unterwelt von St. Pauli vordringt\, gerät er an seinen größten Feind: Woo Chong\, Herrscher über das Nachtleben und mutmaßlicher Mörder seines Bruders. Schließlich bleibt Hansen nur eine Wahl: Er muss sich mit Li Lim verbünden \n\n\n\n\n\n\n\nAlexandra Kui / Peter Godazgar: Harz aber herzlich\n\n\n\n\n\n\n\nEin durchbrochenes Geländer\, eine seltsam verdrehte Leiche am Abhang. Dabei wollte Ariane an ihrem ersten Arbeitstag in Düsterode im Harz nur eine frauenfeindliche Kritzelei beseitigen\, schließlich gehört auch das zu ihren Aufgaben beim Tourismusverband\, wo sie für das Thema Diversity zuständig ist. Als Polizeihauptmeister Andreas mit seiner Hündin Frau Krause am Tatort ankommt\, sind zwei Dinge schnell klar: Ariane und Andreas sind wie Feuer und Wasser\, Stadt und Land\, Tofu und Bratwurst. Und statt den Harz vielfältiger und wertschätzender für alle zu machen\, hat Ariane es mit ganz neuen Herausforderungen zu tun – denn irgendjemand sorgt dafür\, dass Menschen sterben. Der Tote im Wald wird jedenfalls nicht der letzte sein. Von wegen «Glück auf» im Harz. Andreas und Ariane ermitteln. Und Frau Krause auch. \n\n\n\n\n\n\n\n\nEric Niemann\, *1969\, lebt als Hochschullehrer in Hamburg. Er studierte unter anderem Soziologie\, Psychologie und deutsche Literatur. Als Autor ist er ein Tausendsassa: Er schreibt Kurzromane in der Jerry Cotton-Reihe\, Theaterstücke und Hörspiele u. a. für »Sherlock Holmes – die neuen Fälle« und »Pater Brown« sowie Romane gerne auch im Duo. So veröffentlicht er derzeit mit Anja Goerz unter dem Pseudonym Bente Storm eine Nordsee-Krimireihe rund um die Wasserschutzpolizei Cuxhaven. \n\n\n\n\n \n\n\n\n\n\n\n\n\nTina Schlegel\, geboren im Saarland\, lebt heute in Kempen. Sie studierte Deutsche Literatur in Konstanz und arbeitete als Regieassistentin\, Drehbuchautorin und Redakteurin\, bevor sie sich als freiberufliche Kulturjournalistin selbstständig machte. Als Autorin veröffentlichte sie seit 2015 sieben Kriminalromane und einen Liebesroman. \n\n\n\n\n\n\n\n\n\nPeter Godazgar\, *1967\, aufgewachsen in Hückelhoven\, lebt in Halle (Saale). Er war Redakteur bei Mitteldeutschen Zeitung und arbeitet heute als stellvertretender Pressesprecher der Saalestadt. Vor allem aber schreibt er großartig humorvolle Kriminalromane und Kurzgeschichten\, von denen schon drei für den renommierten Friedrich-Glauser-Preis in der Sparte Kurzkrimi nominiert wurden. \n\n\n\nAlexandra Kui\, *1973\, lebt in ihrer Heimatstadt Buxtehude. Nach ihrem Volontariat bei der Goslarschen Zeitung arbeitete sie zunächst weiterhin als Journalistin. Seit vielen Jahren schreibt sie Romane wie den für das ZDF verfilmten Krimi „Blaufeuer“. \n\n\n\n\n\n\n\n\n\n\nVeranstaltet von\n\n\n\nNiederrheinisches Literaturhaus \n\n\n\n\n\nEintritt\n\n\n\n10 Euro\, 5 Euro ermäßigt für Schüler:innen\, Studierende und Empfänger:innen von Sozialleistungen \n\n\n\n\n\n\n\nReservierung\n\n\n\nüber das Anmeldeformular (siehe oben) \n\n\n\n\n\nBarrieren\n\n\n\nDer Jazzkeller ist nur über eine steile Treppe erreichbar. Die Bestuhlung besteht aus Stühlen mit Lehnen sowie Bänken an der Seite des Raums.  \n\n\n\n\n\nGefördert durch das Ministerium für Kultur und Wissenschaft des Landes Nordrhein-Westfalen \n\n\n\n\nFotos: © Cécile Ash (Niemann)\, Ines Godazgar (Godazgar\, Kui)\, privat (Schlegel)
URL:https://nlh-krefeld.de/veranstaltung/krimi-deutschlandreise/
LOCATION:Jazzkeller\, Lohstraße 92\, Krefeld\, 47798\, Deutschland
CATEGORIES:2025,Lesung,WESTWERK
ATTACH;FMTTYPE=image/png:https://nlh-krefeld.de/wp-content/uploads/2025/07/eric-niemann-2cCecile-Ash-quadratisch.png
END:VEVENT
END:VCALENDAR